BEGIN:VCALENDAR
VERSION:2.0
PRODID:-//Current Students - Carleton University//NONSGML v1.0//EN
BEGIN:VEVENT
UID:55897
DTSTAMP:20260421T083323Z
DTSTART:20260325T153000Z
DTEND:20260325T173000Z
SUMMARY:Book Bazaar
DESCRIPTION:<p>The Office of the Dean, Faculty of Arts and Social Sciences and the <a href=\"https://carleton.ca/mental-health/\" target=\"_blank\" rel=\"noopener\">Mental Health and Well-Being Research and Training Hub</a> (MeWeRTH) are co-hosting a book bazaar on Wed. March 25, 2026 from 11:30 a.m. to 1:30 p.m. on the second floor Loeb lounge. Stop by and find your next great read.</p>
<p>Books will be free.</p>
<p>There will also be raffles for book giveaways packages. Don&#8217;t miss out!</p>

LOCATION:
END:VEVENT
END:VCALENDAR
